View In:
ArcGIS JavaScript
Portal Geospasial Kota Tangerang
ArcGIS Earth
ArcMap
View Footprint In:
Portal Geospasial Kota Tangerang
Service Description: Imagery/PERMENDAGRI_11_TAHUN_2012
Name: Imagery/PERMENDAGRI_11_TAHUN_2012
Description:
Single Fused Map Cache: false
Extent:
XMin: 106.61471083057087
YMin: -6.299834961749871
XMax: 106.79851154391443
YMax: -6.183545349524923
Spatial Reference: 4326
(4326)
Initial Extent:
XMin: 106.61471083057087
YMin: -6.299834961749871
XMax: 106.79851154391443
YMax: -6.183545349524923
Spatial Reference: 4326
(4326)
Full Extent:
XMin: 106.61471083057087
YMin: -6.299834961749871
XMax: 106.79851154391443
YMax: -6.183545349524923
Spatial Reference: 4326
(4326)
Pixel Size X: 1.9191888205446194E-5
Pixel Size Y: 1.9262814680296053E-5
Band Count: 3
Pixel Type: U16
RasterFunction Infos: {"rasterFunctionInfos": [{
"name": "None",
"description": "",
"help": ""
}]}
Mensuration Capabilities: Basic
Has Histograms: true
Has Colormap: false
Has Multi Dimensions : false
Rendering Rule:
Min Scale: 0
Max Scale: 0
Copyright Text:
Service Data Type: esriImageServiceDataTypeGeneric
Min Values: 0, 1, 8
Max Values: 255, 255, 255
Mean Values: 229.9759883837, 241.63954157894, 241.977188071
Standard Deviation Values: 36.808391036752, 35.875005732938, 33.25472970248
Object ID Field:
Fields:
None
Default Mosaic Method: Center
Allowed Mosaic Methods:
SortField:
SortValue: null
Mosaic Operator: First
Default Compression Quality: 75
Default Resampling Method: Bilinear
Max Record Count: null
Max Image Height: 4100
Max Image Width: 15000
Max Download Image Count: null
Max Mosaic Image Count: null
Allow Raster Function: true
Allow Compute TiePoints: false
Supports Statistics: false
Supports Advanced Queries: false
Use StandardizedQueries: true
Raster Type Infos:
Name: Raster Dataset
Description: Supports all ArcGIS Raster Datasets
Help:
Has Raster Attribute Table: false
Edit Fields Info: null
Ownership Based AccessControl For Rasters: null
Child Resources:
Info
Histograms
Key Properties
Legend
MultiDimensionalInfo
rasterFunctionInfos
Supported Operations:
Export Image
Identify
Measure
Compute Histograms
Compute Statistics Histograms
Get Samples
Compute Class Statistics
Query Boundary
Compute Pixel Location