{
 "currentVersion": 10.71,
 "serviceDescription": "Imagery/PERMENDAGRI_11_TAHUN_2012",
 "name": "Imagery/PERMENDAGRI_11_TAHUN_2012",
 "description": "",
 "extent": {
  "xmin": 106.61471083057087,
  "ymin": -6.299834961749871,
  "xmax": 106.79851154391443,
  "ymax": -6.183545349524923,
  "spatialReference": {
   "wkid": 4326,
   "latestWkid": 4326
  }
 },
 "initialExtent": {
  "xmin": 106.61471083057087,
  "ymin": -6.299834961749871,
  "xmax": 106.79851154391443,
  "ymax": -6.183545349524923,
  "spatialReference": {
   "wkid": 4326,
   "latestWkid": 4326
  }
 },
 "fullExtent": {
  "xmin": 106.61471083057087,
  "ymin": -6.299834961749871,
  "xmax": 106.79851154391443,
  "ymax": -6.183545349524923,
  "spatialReference": {
   "wkid": 4326,
   "latestWkid": 4326
  }
 },
 "pixelSizeX": 1.9191888205446194E-5,
 "pixelSizeY": 1.9262814680296053E-5,
 "bandCount": 3,
 "pixelType": "U16",
 "minPixelSize": 0,
 "maxPixelSize": 0,
 "copyrightText": "",
 "serviceDataType": "esriImageServiceDataTypeGeneric",
 "minValues": [
  0,
  1,
  8
 ],
 "maxValues": [
  255,
  255,
  255
 ],
 "meanValues": [
  229.9759883837,
  241.63954157894,
  241.977188071
 ],
 "stdvValues": [
  36.808391036752,
  35.875005732938,
  33.25472970248
 ],
 "objectIdField": "",
 "fields": [],
 "capabilities": "Mensuration,Image,Metadata",
 "defaultMosaicMethod": "Center",
 "allowedMosaicMethods": "",
 "sortField": "",
 "sortValue": null,
 "mosaicOperator": "First",
 "defaultCompressionQuality": 75,
 "defaultResamplingMethod": "Bilinear",
 "maxImageHeight": 4100,
 "maxImageWidth": 15000,
 "allowRasterFunction": true,
 "rasterFunctionInfos": [
  {
   "name": "None",
   "description": "",
   "help": ""
  }
 ],
 "rasterTypeInfos": [
  {
   "name": "Raster Dataset",
   "description": "Supports all ArcGIS Raster Datasets",
   "help": ""
  }
 ],
 "mensurationCapabilities": "Basic",
 "hasHistograms": true,
 "hasColormap": false,
 "hasRasterAttributeTable": false,
 "minScale": 0,
 "maxScale": 0,
 "exportTilesAllowed": false,
 "hasMultidimensions": false,
 "supportsStatistics": false,
 "supportsAdvancedQueries": false,
 "editFieldsInfo": null,
 "ownershipBasedAccessControlForRasters": null,
 "allowComputeTiePoints": false,
 "useStandardizedQueries": true,
 "advancedQueryCapabilities": {
  "useStandardizedQueries": true,
  "supportsStatistics": false,
  "supportsOrderBy": false,
  "supportsDistinct": false,
  "supportsPagination": false
 },
 "spatialReference": {
  "wkid": 4326,
  "latestWkid": 4326
 }
}
