View In:
ArcGIS JavaScript
Portal Geospasial Kota Tangerang
ArcGIS Earth
ArcMap
View Footprint In:
Portal Geospasial Kota Tangerang
Service Description: Imagery/PERMENDAGRI_37_2014
Name: Imagery/PERMENDAGRI_37_2014
Description:
Single Fused Map Cache: false
Extent:
XMin: 106.65575647218834
YMin: -6.343846778132174
XMax: 106.85469495449762
YMax: -6.057980887714948
Spatial Reference: 4326
(4326)
Initial Extent:
XMin: 106.65575647218834
YMin: -6.343846778132174
XMax: 106.85469495449762
YMax: -6.057980887714948
Spatial Reference: 4326
(4326)
Full Extent:
XMin: 106.65575647218834
YMin: -6.343846778132174
XMax: 106.85469495449762
YMax: -6.057980887714948
Spatial Reference: 4326
(4326)
Pixel Size X: 3.8279484762223104E-5
Pixel Size Y: 3.8115452055630075E-5
Band Count: 3
Pixel Type: U8
RasterFunction Infos: {"rasterFunctionInfos": [{
"name": "None",
"description": "",
"help": ""
}]}
Mensuration Capabilities: Basic
Has Histograms: true
Has Colormap: false
Has Multi Dimensions : false
Rendering Rule:
Min Scale: 0
Max Scale: 0
Copyright Text:
Service Data Type: esriImageServiceDataTypeRGB
Min Values: 0, 0, 0
Max Values: 255, 255, 255
Mean Values: 227.25227303409, 242.68745511839, 190.30869448313
Standard Deviation Values: 49.690107950134, 41.425895819646, 76.040440100646
Object ID Field:
Fields:
None
Default Mosaic Method: Center
Allowed Mosaic Methods:
SortField:
SortValue: null
Mosaic Operator: First
Default Compression Quality: 75
Default Resampling Method: Bilinear
Max Record Count: null
Max Image Height: 4100
Max Image Width: 15000
Max Download Image Count: null
Max Mosaic Image Count: null
Allow Raster Function: true
Allow Compute TiePoints: false
Supports Statistics: false
Supports Advanced Queries: false
Use StandardizedQueries: true
Raster Type Infos:
Name: Raster Dataset
Description: Supports all ArcGIS Raster Datasets
Help:
Has Raster Attribute Table: false
Edit Fields Info: null
Ownership Based AccessControl For Rasters: null
Child Resources:
Info
Histograms
Key Properties
Legend
MultiDimensionalInfo
rasterFunctionInfos
Supported Operations:
Export Image
Identify
Measure
Compute Histograms
Compute Statistics Histograms
Get Samples
Compute Class Statistics
Query Boundary
Compute Pixel Location